View In:
ArcGIS JavaScript
ArcGIS Online map viewer
ArcGIS Earth
Service Description: UT_UDOT_BLTMarinaExt/UT_UDOT_BLTMarina_DroneImagery
Name: UT_UDOT_BLTMarinaExt/UT_UDOT_BLTMarina_DroneImagery
Description:
Single Fused Map Cache: false
Extent:
XMin: 664703.5216
YMin: 875859.1352100001
XMax: 668403.9575
YMax: 885887.0263700001
Spatial Reference: 0
(0)
LatestVCSWkid(0)
Initial Extent:
XMin: 664703.5216
YMin: 875859.1352100001
XMax: 668403.9575
YMax: 885887.0263700001
Spatial Reference: 0
(0)
LatestVCSWkid(0)
Full Extent:
XMin: 664703.5216
YMin: 875859.1352100001
XMax: 668403.9575
YMax: 885887.0263700001
Spatial Reference: 0
(0)
LatestVCSWkid(0)
Pixel Size X: 0.03038000000000033
Pixel Size Y: 0.030379999999999997
Band Count: 4
Pixel Type: U8
RasterFunction Infos: {"rasterFunctionInfos": [{
"name": "None",
"description": "",
"help": ""
}]}
Mensuration Capabilities: Basic
Inspection Capabilities:
Has Histograms: true
Has Colormap: false
Has Multi Dimensions : false
Rendering Rule:
Min Scale: 0
Max Scale: 0
Copyright Text:
Service Data Type: esriImageServiceDataTypeGeneric
Min Values: 0, 0, 0, 0
Max Values: 255, 255, 255, 255
Mean Values: 13.905020903684, 14.231179471346, 12.741809462895, 35.157904075913
Standard Deviation Values: 37.782673361863, 38.183061052023, 35.275003090701, 87.915767909674
Object ID Field:
Fields:
None
Default Mosaic Method: Center
Allowed Mosaic Methods:
SortField:
SortValue: null
Mosaic Operator: First
Default Compression Quality: 75
Default Resampling Method: Bilinear
Max Record Count: null
Max Image Height: 4100
Max Image Width: 15000
Max Download Image Count: null
Max Mosaic Image Count: null
Allow Raster Function: true
Allow Copy: true
Allow Analysis: true
Allow Compute TiePoints: false
Supports Statistics: false
Supports Advanced Queries: false
Use StandardizedQueries: true
Raster Type Infos:
Name: Raster Dataset
Description: Supports all ArcGIS Raster Datasets
Help:
Has Raster Attribute Table: false
Edit Fields Info: null
Ownership Based AccessControl For Rasters: null
Child Resources:
Info
Histograms
Statistics
Key Properties
Legend
Raster Function Infos
Supported Operations:
Export Image
Identify
Measure
Compute Histograms
Compute Statistics Histograms
Get Samples
Compute Class Statistics
Query Boundary
Compute Pixel Location
Compute Angles
Validate
Project