{
 "currentVersion": 11.5,
 "serviceDescription": "UT_UDOT_BLTMarinaExt/UT_UDOT_BLTMarina_DroneImagery",
 "serviceItemId": "f9e531db66d1437184f6340947a544c8",
 "name": "UT_UDOT_BLTMarinaExt/UT_UDOT_BLTMarina_DroneImagery",
 "description": "",
 "extent": {
  "xmin": 664703.5216,
  "ymin": 875859.1352100001,
  "xmax": 668403.9575,
  "ymax": 885887.0263700001,
  "spatialReference": {
   "wkt2": "PROJCRS[\"21903_BearLakeTrail_Survey\",BASEGEOGCRS[\"GCS_North_American_1983\",DATUM[\"D_North_American_1983\",ELLIPSOID[\"GRS_1980\",6378137.0,298.257222101,LENGTHUNIT[\"Meter\",1.0]]],PRIMEM[\"Greenwich\",0.0,ANGLEUNIT[\"Degree\",0.0174532925199433]],CS[ellipsoidal,2],AXIS[\"Latitude (lat)\",north,ORDER[1]],AXIS[\"Longitude (lon)\",east,ORDER[2]],ANGLEUNIT[\"Degree\",0.0174532925199433]],CONVERSION[\"Lambert_Conformal_Conic\",METHOD[\"Lambert_Conformal_Conic\"],PARAMETER[\"False_Easting\",640817.63371253,LENGTHUNIT[\"Foot_US\",0.3048006096012192]],PARAMETER[\"False_Northing\",281635.267425,LENGTHUNIT[\"Foot_US\",0.3048006096012192]],PARAMETER[\"Central_Meridian\",-111.5,ANGLEUNIT[\"Degree\",0.0174532925199433]],PARAMETER[\"Standard_Parallel_1\",40.7166666666667,ANGLEUNIT[\"Degree\",0.0174532925199433]],PARAMETER[\"Standard_Parallel_2\",41.7833333333333,ANGLEUNIT[\"Degree\",0.0174532925199433]],PARAMETER[\"Scale_Factor\",1.00024443,SCALEUNIT[\"Unity\",1.0]],PARAMETER[\"Latitude_Of_Origin\",40.3333333333333,ANGLEUNIT[\"Degree\",0.0174532925199433]]],CS[Cartesian,2],AXIS[\"Easting (X)\",east,ORDER[1]],AXIS[\"Northing (Y)\",north,ORDER[2]],LENGTHUNIT[\"Foot_US\",0.3048006096012192]]",
   "wkt": "PROJCS[\"21903_BearLakeTrail_Survey\",GEOGCS[\"GCS_North_American_1983\",DATUM[\"D_North_American_1983\",SPHEROID[\"GRS_1980\",6378137.0,298.257222101]],PRIMEM[\"Greenwich\",0.0],UNIT[\"Degree\",0.0174532925199433]],PROJECTION[\"Lambert_Conformal_Conic\"],PARAMETER[\"False_Easting\",640817.63371253],PARAMETER[\"False_Northing\",281635.267425],PARAMETER[\"Central_Meridian\",-111.5],PARAMETER[\"Standard_Parallel_1\",40.7166666666667],PARAMETER[\"Standard_Parallel_2\",41.7833333333333],PARAMETER[\"Scale_Factor\",1.00024443],PARAMETER[\"Latitude_Of_Origin\",40.3333333333333],UNIT[\"Foot_US\",0.3048006096012192]]"
  }
 },
 "initialExtent": {
  "xmin": 664703.5216,
  "ymin": 875859.1352100001,
  "xmax": 668403.9575,
  "ymax": 885887.0263700001,
  "spatialReference": {
   "wkt2": "PROJCRS[\"21903_BearLakeTrail_Survey\",BASEGEOGCRS[\"GCS_North_American_1983\",DATUM[\"D_North_American_1983\",ELLIPSOID[\"GRS_1980\",6378137.0,298.257222101,LENGTHUNIT[\"Meter\",1.0]]],PRIMEM[\"Greenwich\",0.0,ANGLEUNIT[\"Degree\",0.0174532925199433]],CS[ellipsoidal,2],AXIS[\"Latitude (lat)\",north,ORDER[1]],AXIS[\"Longitude (lon)\",east,ORDER[2]],ANGLEUNIT[\"Degree\",0.0174532925199433]],CONVERSION[\"Lambert_Conformal_Conic\",METHOD[\"Lambert_Conformal_Conic\"],PARAMETER[\"False_Easting\",640817.63371253,LENGTHUNIT[\"Foot_US\",0.3048006096012192]],PARAMETER[\"False_Northing\",281635.267425,LENGTHUNIT[\"Foot_US\",0.3048006096012192]],PARAMETER[\"Central_Meridian\",-111.5,ANGLEUNIT[\"Degree\",0.0174532925199433]],PARAMETER[\"Standard_Parallel_1\",40.7166666666667,ANGLEUNIT[\"Degree\",0.0174532925199433]],PARAMETER[\"Standard_Parallel_2\",41.7833333333333,ANGLEUNIT[\"Degree\",0.0174532925199433]],PARAMETER[\"Scale_Factor\",1.00024443,SCALEUNIT[\"Unity\",1.0]],PARAMETER[\"Latitude_Of_Origin\",40.3333333333333,ANGLEUNIT[\"Degree\",0.0174532925199433]]],CS[Cartesian,2],AXIS[\"Easting (X)\",east,ORDER[1]],AXIS[\"Northing (Y)\",north,ORDER[2]],LENGTHUNIT[\"Foot_US\",0.3048006096012192]]",
   "wkt": "PROJCS[\"21903_BearLakeTrail_Survey\",GEOGCS[\"GCS_North_American_1983\",DATUM[\"D_North_American_1983\",SPHEROID[\"GRS_1980\",6378137.0,298.257222101]],PRIMEM[\"Greenwich\",0.0],UNIT[\"Degree\",0.0174532925199433]],PROJECTION[\"Lambert_Conformal_Conic\"],PARAMETER[\"False_Easting\",640817.63371253],PARAMETER[\"False_Northing\",281635.267425],PARAMETER[\"Central_Meridian\",-111.5],PARAMETER[\"Standard_Parallel_1\",40.7166666666667],PARAMETER[\"Standard_Parallel_2\",41.7833333333333],PARAMETER[\"Scale_Factor\",1.00024443],PARAMETER[\"Latitude_Of_Origin\",40.3333333333333],UNIT[\"Foot_US\",0.3048006096012192]]"
  }
 },
 "fullExtent": {
  "xmin": 664703.5216,
  "ymin": 875859.1352100001,
  "xmax": 668403.9575,
  "ymax": 885887.0263700001,
  "spatialReference": {
   "wkt2": "PROJCRS[\"21903_BearLakeTrail_Survey\",BASEGEOGCRS[\"GCS_North_American_1983\",DATUM[\"D_North_American_1983\",ELLIPSOID[\"GRS_1980\",6378137.0,298.257222101,LENGTHUNIT[\"Meter\",1.0]]],PRIMEM[\"Greenwich\",0.0,ANGLEUNIT[\"Degree\",0.0174532925199433]],CS[ellipsoidal,2],AXIS[\"Latitude (lat)\",north,ORDER[1]],AXIS[\"Longitude (lon)\",east,ORDER[2]],ANGLEUNIT[\"Degree\",0.0174532925199433]],CONVERSION[\"Lambert_Conformal_Conic\",METHOD[\"Lambert_Conformal_Conic\"],PARAMETER[\"False_Easting\",640817.63371253,LENGTHUNIT[\"Foot_US\",0.3048006096012192]],PARAMETER[\"False_Northing\",281635.267425,LENGTHUNIT[\"Foot_US\",0.3048006096012192]],PARAMETER[\"Central_Meridian\",-111.5,ANGLEUNIT[\"Degree\",0.0174532925199433]],PARAMETER[\"Standard_Parallel_1\",40.7166666666667,ANGLEUNIT[\"Degree\",0.0174532925199433]],PARAMETER[\"Standard_Parallel_2\",41.7833333333333,ANGLEUNIT[\"Degree\",0.0174532925199433]],PARAMETER[\"Scale_Factor\",1.00024443,SCALEUNIT[\"Unity\",1.0]],PARAMETER[\"Latitude_Of_Origin\",40.3333333333333,ANGLEUNIT[\"Degree\",0.0174532925199433]]],CS[Cartesian,2],AXIS[\"Easting (X)\",east,ORDER[1]],AXIS[\"Northing (Y)\",north,ORDER[2]],LENGTHUNIT[\"Foot_US\",0.3048006096012192]]",
   "wkt": "PROJCS[\"21903_BearLakeTrail_Survey\",GEOGCS[\"GCS_North_American_1983\",DATUM[\"D_North_American_1983\",SPHEROID[\"GRS_1980\",6378137.0,298.257222101]],PRIMEM[\"Greenwich\",0.0],UNIT[\"Degree\",0.0174532925199433]],PROJECTION[\"Lambert_Conformal_Conic\"],PARAMETER[\"False_Easting\",640817.63371253],PARAMETER[\"False_Northing\",281635.267425],PARAMETER[\"Central_Meridian\",-111.5],PARAMETER[\"Standard_Parallel_1\",40.7166666666667],PARAMETER[\"Standard_Parallel_2\",41.7833333333333],PARAMETER[\"Scale_Factor\",1.00024443],PARAMETER[\"Latitude_Of_Origin\",40.3333333333333],UNIT[\"Foot_US\",0.3048006096012192]]"
  }
 },
 "sortableFields": "",
 "bandCount": 4,
 "pixelType": "U8",
 "minValues": [
  0,
  0,
  0,
  0
 ],
 "maxValues": [
  255,
  255,
  255,
  255
 ],
 "meanValues": [
  13.905020903684,
  14.231179471346,
  12.741809462895,
  35.157904075913
 ],
 "stdvValues": [
  37.782673361863,
  38.183061052023,
  35.275003090701,
  87.915767909674
 ],
 "serviceProperties": "Center<\/MosaicMethod>First<\/MosaicOperator>true<\/SortAscending><\/LockImageID><\/TileOrderField>0<\/TileOrderBase>0.000000<\/AvgImageSpacingX>0.000000<\/AvgImageSpacingY>0.0<\/ViewPointX>0.0<\/ViewPointY>0.0<\/ViewPointDefShiftX>0.0<\/ViewPointDefShiftY>None<\/CompressionMethod>75<\/CompressionQuality>0.010000<\/CompressionTolerance>Bilinear<\/SamplingMethod><\/ImageServiceProperties><\/ImageServer>",
 "allowedFields": "",
 "hasMultidimensions": false,
 "pixelSizeX": 0.03038000000000033,
 "pixelSizeY": 0.030379999999999997,
 "meanPixelSize": 0.00925984251968509,
 "datasetFormat": "JP2",
 "uncompressedSize": 160822552040,
 "blockWidth": 2048,
 "blockHeight": 2048,
 "compressionType": "JPEG2000",
 "bandNames": [
  "Band_1",
  "Band_2",
  "Band_3",
  "Band_4"
 ],
 "allowCopy": true,
 "allowAnalysis": true,
 "itemAccess": false,
 "inspectionCapabilities": "",
 "noDataValue": 256,
 "noDataValues": [
  256,
  256,
  256,
  256
 ],
 "minPixelSize": 0,
 "maxPixelSize": 0,
 "copyrightText": "",
 "serviceDataType": "esriImageServiceDataTypeGeneric",
 "serviceSourceType": "esriImageServiceSourceTypeDataset",
 "objectIdField": "",
 "fields": [],
 "capabilities": "Image,Metadata,Mensuration",
 "defaultMosaicMethod": "Center",
 "allowedMosaicMethods": "",
 "sortField": "",
 "sortValue": null,
 "sortAscending": true,
 "mosaicOperator": "First",
 "defaultCompressionQuality": 75,
 "defaultResamplingMethod": "Bilinear",
 "maxImageHeight": 4100,
 "maxImageWidth": 15000,
 "allowRasterFunction": true,
 "rasterFunctionInfos": [
  {
   "name": "None",
   "description": "",
   "help": ""
  }
 ],
 "rasterTypeInfos": [
  {
   "name": "Raster Dataset",
   "description": "Supports all ArcGIS Raster Datasets",
   "help": ""
  }
 ],
 "mensurationCapabilities": "Basic",
 "hasHistograms": true,
 "hasColormap": false,
 "hasRasterAttributeTable": false,
 "minScale": 0,
 "maxScale": 0,
 "exportTilesAllowed": false,
 "supportsStatistics": false,
 "supportsAdvancedQueries": false,
 "editFieldsInfo": null,
 "ownershipBasedAccessControlForRasters": null,
 "allowComputeTiePoints": false,
 "useStandardizedQueries": true,
 "advancedQueryCapabilities": {
  "useStandardizedQueries": true,
  "supportsStatistics": false,
  "supportsOrderBy": false,
  "supportsDistinct": false,
  "supportsPagination": false
 },
 "spatialReference": {
  "wkt2": "PROJCRS[\"21903_BearLakeTrail_Survey\",BASEGEOGCRS[\"GCS_North_American_1983\",DATUM[\"D_North_American_1983\",ELLIPSOID[\"GRS_1980\",6378137.0,298.257222101,LENGTHUNIT[\"Meter\",1.0]]],PRIMEM[\"Greenwich\",0.0,ANGLEUNIT[\"Degree\",0.0174532925199433]],CS[ellipsoidal,2],AXIS[\"Latitude (lat)\",north,ORDER[1]],AXIS[\"Longitude (lon)\",east,ORDER[2]],ANGLEUNIT[\"Degree\",0.0174532925199433]],CONVERSION[\"Lambert_Conformal_Conic\",METHOD[\"Lambert_Conformal_Conic\"],PARAMETER[\"False_Easting\",640817.63371253,LENGTHUNIT[\"Foot_US\",0.3048006096012192]],PARAMETER[\"False_Northing\",281635.267425,LENGTHUNIT[\"Foot_US\",0.3048006096012192]],PARAMETER[\"Central_Meridian\",-111.5,ANGLEUNIT[\"Degree\",0.0174532925199433]],PARAMETER[\"Standard_Parallel_1\",40.7166666666667,ANGLEUNIT[\"Degree\",0.0174532925199433]],PARAMETER[\"Standard_Parallel_2\",41.7833333333333,ANGLEUNIT[\"Degree\",0.0174532925199433]],PARAMETER[\"Scale_Factor\",1.00024443,SCALEUNIT[\"Unity\",1.0]],PARAMETER[\"Latitude_Of_Origin\",40.3333333333333,ANGLEUNIT[\"Degree\",0.0174532925199433]]],CS[Cartesian,2],AXIS[\"Easting (X)\",east,ORDER[1]],AXIS[\"Northing (Y)\",north,ORDER[2]],LENGTHUNIT[\"Foot_US\",0.3048006096012192]]",
  "wkt": "PROJCS[\"21903_BearLakeTrail_Survey\",GEOGCS[\"GCS_North_American_1983\",DATUM[\"D_North_American_1983\",SPHEROID[\"GRS_1980\",6378137.0,298.257222101]],PRIMEM[\"Greenwich\",0.0],UNIT[\"Degree\",0.0174532925199433]],PROJECTION[\"Lambert_Conformal_Conic\"],PARAMETER[\"False_Easting\",640817.63371253],PARAMETER[\"False_Northing\",281635.267425],PARAMETER[\"Central_Meridian\",-111.5],PARAMETER[\"Standard_Parallel_1\",40.7166666666667],PARAMETER[\"Standard_Parallel_2\",41.7833333333333],PARAMETER[\"Scale_Factor\",1.00024443],PARAMETER[\"Latitude_Of_Origin\",40.3333333333333],UNIT[\"Foot_US\",0.3048006096012192]]"
 }
}
