View In:
ArcGIS JavaScript
ArcGIS Online map viewer
ArcGIS Earth
Service Description: UT_UDOT_SR108Ph2/UT_UDOT_SR108Ph2_ProjectDroneImagery
Name: UT_UDOT_SR108Ph2/UT_UDOT_SR108Ph2_ProjectDroneImagery
Description:
Single Fused Map Cache: false
Extent:
XMin: 483884.0327421427
YMin: 575714.4859312326
XMax: 489506.29872855934
YMax: 593740.1847878993
Spatial Reference: 0
(0)
LatestVCSWkid(0)
Initial Extent:
XMin: 483884.0327421427
YMin: 575714.4859312326
XMax: 489506.29872855934
YMax: 593740.1847878993
Spatial Reference: 0
(0)
LatestVCSWkid(0)
Full Extent:
XMin: 483884.0327421427
YMin: 575714.4859312326
XMax: 489506.29872855934
YMax: 593740.1847878993
Spatial Reference: 0
(0)
LatestVCSWkid(0)
Pixel Size X: 0.05142238063215497
Pixel Size Y: 0.05142280561268984
Band Count: 4
Pixel Type: U16
RasterFunction Infos: {"rasterFunctionInfos": [{
"name": "None",
"description": "",
"help": ""
}]}
Mensuration Capabilities: Basic
Inspection Capabilities:
Has Histograms: false
Has Colormap: false
Has Multi Dimensions : false
Rendering Rule:
Min Scale: 0
Max Scale: 0
Copyright Text:
Service Data Type: esriImageServiceDataTypeGeneric
Min Values: N/A
Max Values: N/A
Mean Values: N/A
Standard Deviation Values: N/A
Object ID Field:
Fields:
None
Default Mosaic Method: Center
Allowed Mosaic Methods:
SortField:
SortValue: null
Mosaic Operator: First
Default Compression Quality: 75
Default Resampling Method: Bilinear
Max Record Count: null
Max Image Height: 4100
Max Image Width: 15000
Max Download Image Count: null
Max Mosaic Image Count: null
Allow Raster Function: true
Allow Copy: false
Allow Analysis: false
Allow Compute TiePoints: false
Supports Statistics: false
Supports Advanced Queries: false
Use StandardizedQueries: true
Raster Type Infos:
Name: Raster Dataset
Description: Supports all ArcGIS Raster Datasets
Help:
Has Raster Attribute Table: false
Edit Fields Info: null
Ownership Based AccessControl For Rasters: null
Child Resources:
Info
Statistics
Key Properties
Legend
Raster Function Infos
Supported Operations:
Export Image
Identify
Measure
Compute Histograms
Compute Statistics Histograms
Get Samples
Compute Class Statistics
Query Boundary
Compute Pixel Location
Compute Angles
Validate
Project