View In:
ArcGIS JavaScript
ArcGIS Online map viewer
ArcGIS Earth
Service Description: UDOT/UT_UDOT_1800North_DroneWest
Name: UDOT/UT_UDOT_1800North_DroneWest
Description:
Single Fused Map Cache: false
Extent:
XMin: 1485548.0029337797
YMin: 3572319.953200509
XMax: 1493739.6539937798
YMax: 3577442.548020509
Spatial Reference: 0
(0)
LatestVCSWkid(0)
Initial Extent:
XMin: 1485548.0029337797
YMin: 3572319.953200509
XMax: 1493739.6539937798
YMax: 3577442.548020509
Spatial Reference: 0
(0)
LatestVCSWkid(0)
Full Extent:
XMin: 1485548.0029337797
YMin: 3572319.953200509
XMax: 1493739.6539937798
YMax: 3577442.548020509
Spatial Reference: 0
(0)
LatestVCSWkid(0)
Pixel Size X: 0.04222000000000032
Pixel Size Y: 0.04222000000000191
Band Count: 4
Pixel Type: U8
RasterFunction Infos: {"rasterFunctionInfos": [{
"name": "None",
"description": "",
"help": ""
}]}
Mensuration Capabilities: Basic
Inspection Capabilities:
Has Histograms: true
Has Colormap: false
Has Multi Dimensions : false
Rendering Rule:
Min Scale: 0
Max Scale: 0
Copyright Text:
Service Data Type: esriImageServiceDataTypeGeneric
Min Values: 0, 0, 0, 0
Max Values: 255, 255, 255, 255
Mean Values: 229.0985104534, 229.64918265093, 226.71835734221, 49.087373707998
Standard Deviation Values: 57.748843423427, 56.066346263386, 62.1960005589, 100.53710776801
Object ID Field:
Fields:
None
Default Mosaic Method: Center
Allowed Mosaic Methods:
SortField:
SortValue: null
Mosaic Operator: First
Default Compression Quality: 75
Default Resampling Method: Bilinear
Max Record Count: null
Max Image Height: 4100
Max Image Width: 15000
Max Download Image Count: null
Max Mosaic Image Count: null
Allow Raster Function: true
Allow Copy: true
Allow Analysis: true
Allow Compute TiePoints: false
Supports Statistics: false
Supports Advanced Queries: false
Use StandardizedQueries: true
Raster Type Infos:
Name: Raster Dataset
Description: Supports all ArcGIS Raster Datasets
Help:
Has Raster Attribute Table: false
Edit Fields Info: null
Ownership Based AccessControl For Rasters: null
Child Resources:
Info
Histograms
Statistics
Key Properties
Legend
Raster Function Infos
Supported Operations:
Export Image
Identify
Measure
Compute Histograms
Compute Statistics Histograms
Get Samples
Compute Class Statistics
Query Boundary
Compute Pixel Location
Compute Angles
Validate
Project