View In:
ArcGIS JavaScript
ArcGIS Online map viewer
ArcGIS Earth
Service Description: UDOT/UT_UDOT_1800North_DroneEast
Name: UDOT/UT_UDOT_1800North_DroneEast
Description:
Single Fused Map Cache: false
Extent:
XMin: 1492767.7235249728
YMin: 3570352.5261949003
XMax: 1496352.8452917228
YMax: 3581854.761720567
Spatial Reference: 0
(0)
LatestVCSWkid(0)
Initial Extent:
XMin: 1492767.7235249728
YMin: 3570352.5261949003
XMax: 1496352.8452917228
YMax: 3581854.761720567
Spatial Reference: 0
(0)
LatestVCSWkid(0)
Full Extent:
XMin: 1492767.7235249728
YMin: 3570352.5261949003
XMax: 1496352.8452917228
YMax: 3581854.761720567
Spatial Reference: 0
(0)
LatestVCSWkid(0)
Pixel Size X: 0.04928950955166633
Pixel Size Y: 0.049289873223945666
Band Count: 4
Pixel Type: U8
RasterFunction Infos: {"rasterFunctionInfos": [{
"name": "None",
"description": "",
"help": ""
}]}
Mensuration Capabilities: Basic
Inspection Capabilities:
Has Histograms: false
Has Colormap: false
Has Multi Dimensions : false
Rendering Rule:
Min Scale: 0
Max Scale: 0
Copyright Text:
Service Data Type: esriImageServiceDataTypeGeneric
Min Values: 0, 0, 0, 0
Max Values: 255, 255, 255, 255
Mean Values: 187.31839963904, 187.62009236188, 177.53855647511, 254.85637201267
Standard Deviation Values: 49.90453526208, 47.816316558211, 47.554361925722, 6.0501659299463
Object ID Field:
Fields:
None
Default Mosaic Method: Center
Allowed Mosaic Methods:
SortField:
SortValue: null
Mosaic Operator: First
Default Compression Quality: 75
Default Resampling Method: Bilinear
Max Record Count: null
Max Image Height: 4100
Max Image Width: 15000
Max Download Image Count: null
Max Mosaic Image Count: null
Allow Raster Function: true
Allow Copy: true
Allow Analysis: true
Allow Compute TiePoints: false
Supports Statistics: false
Supports Advanced Queries: false
Use StandardizedQueries: true
Raster Type Infos:
Name: Raster Dataset
Description: Supports all ArcGIS Raster Datasets
Help:
Has Raster Attribute Table: false
Edit Fields Info: null
Ownership Based AccessControl For Rasters: null
Child Resources:
Info
Statistics
Key Properties
Legend
Raster Function Infos
Supported Operations:
Export Image
Identify
Measure
Compute Histograms
Compute Statistics Histograms
Get Samples
Compute Class Statistics
Query Boundary
Compute Pixel Location
Compute Angles
Validate
Project