<?xml version="1.0" encoding="UTF-8" standalone="no"?>
<metadata xml:lang="en">
<Esri>
<CreaDate>20241030</CreaDate>
<CreaTime>01392800</CreaTime>
<ArcGISFormat>1.0</ArcGISFormat>
<SyncOnce>FALSE</SyncOnce>
<DataProperties>
<itemProps>
<itemName Sync="TRUE">ProjectDrone_Clip.jp2</itemName>
<itemLocation>
<linkage Sync="TRUE">file://\\jub.com\central\Clients\UT\UDOT\Region1\Projects\07-24-041_SR-108\GIS\Data\Raster\ProjectDrone_Clip.jp2</linkage>
<protocol Sync="TRUE">Local Area Network</protocol>
</itemLocation>
<imsContentType Sync="TRUE">002</imsContentType>
<nativeExtBox>
<westBL Sync="TRUE">483884.032742</westBL>
<eastBL Sync="TRUE">489506.298729</eastBL>
<southBL Sync="TRUE">575714.485931</southBL>
<northBL Sync="TRUE">593740.184788</northBL>
<exTypeCode Sync="TRUE">1</exTypeCode>
</nativeExtBox>
</itemProps>
<RasterProperties>
<General>
<PixelDepth Sync="TRUE">16</PixelDepth>
<HasColormap Sync="TRUE">FALSE</HasColormap>
<CompressionType Sync="TRUE">JPEG2000</CompressionType>
<NumBands Sync="TRUE">4</NumBands>
<Format Sync="TRUE">JP2</Format>
<HasPyramids Sync="TRUE">TRUE</HasPyramids>
<SourceType Sync="TRUE">continuous</SourceType>
<PixelType Sync="TRUE">unsigned integer</PixelType>
<NoDataValue Sync="TRUE">256</NoDataValue>
</General>
</RasterProperties>
<lineage>
<Process Date="20241030" Time="015344" ToolSource="c:\program files\arcgis\pro\Resources\ArcToolbox\toolboxes\Data Management Tools.tbx\Clip">Clip \\jub.com\central\Clients\UT\UDOT\Region1\Projects\07-24-041_SR-108\GIS\Data\Raster\UTAH00000076_GROUND_ECW.ecw "483884.032742143 575714.485931233 489506.298728559 593740.184787899" \\jub.com\central\Clients\UT\UDOT\Region1\Projects\07-24-041_SR-108\GIS\Data\Raster\ProjectDrone_Clip.jp2 DroneTrim 256 ClippingGeometry NO_MAINTAIN_EXTENT</Process>
</lineage>
</DataProperties>
<SyncDate>20241030</SyncDate>
<SyncTime>01392800</SyncTime>
<ModDate>20241030</ModDate>
<ModTime>01392800</ModTime>
</Esri>
<dataIdInfo>
<envirDesc Sync="TRUE">Microsoft Windows 10 Version 10.0 (Build 19045) ; Esri ArcGIS 13.1.2.41833</envirDesc>
<dataLang>
<languageCode Sync="TRUE" value="eng"/>
<countryCode Sync="TRUE" value="USA"/>
</dataLang>
<idCitation>
<resTitle Sync="TRUE">UT_UDOT_SR108Ph2_ProjectDrone</resTitle>
<presForm>
<PresFormCd Sync="TRUE" value="005"/>
</presForm>
</idCitation>
<spatRpType>
<SpatRepTypCd Sync="TRUE" value="002"/>
</spatRpType>
<idAbs/>
<searchKeys>
<keyword>SR-108 Ph2</keyword>
<keyword>UDOT</keyword>
</searchKeys>
<idPurp/>
<idCredit/>
<resConst>
<Consts>
<useLimit/>
</Consts>
</resConst>
</dataIdInfo>
<mdLang>
<languageCode Sync="TRUE" value="eng"/>
<countryCode Sync="TRUE" value="USA"/>
</mdLang>
<mdChar>
<CharSetCd Sync="TRUE" value="004"/>
</mdChar>
<distInfo>
<distFormat>
<formatName Sync="TRUE">Raster Dataset</formatName>
</distFormat>
</distInfo>
<mdHrLv>
<ScopeCd Sync="TRUE" value="005"/>
</mdHrLv>
<mdHrLvName Sync="TRUE">dataset</mdHrLvName>
<spatRepInfo>
<Georect>
<cellGeo>
<CellGeoCd Sync="TRUE" value="002"/>
</cellGeo>
<numDims Sync="TRUE">2</numDims>
<tranParaAv Sync="TRUE">1</tranParaAv>
<chkPtAv Sync="TRUE">0</chkPtAv>
<cornerPts>
<pos Sync="TRUE">483884.032742 575714.485931</pos>
</cornerPts>
<cornerPts>
<pos Sync="TRUE">483884.032742 593740.184788</pos>
</cornerPts>
<cornerPts>
<pos Sync="TRUE">489506.298729 593740.184788</pos>
</cornerPts>
<cornerPts>
<pos Sync="TRUE">489506.298729 575714.485931</pos>
</cornerPts>
<centerPt>
<pos Sync="TRUE">486695.165735 584727.335360</pos>
</centerPt>
<axisDimension type="002">
<dimSize Sync="TRUE">109335</dimSize>
<dimResol>
<value Sync="TRUE">0.051422</value>
</dimResol>
</axisDimension>
<axisDimension type="001">
<dimSize Sync="TRUE">350539</dimSize>
<dimResol>
<value Sync="TRUE">0.051423</value>
</dimResol>
</axisDimension>
<ptInPixel>
<PixOrientCd Sync="TRUE" value="001"/>
</ptInPixel>
</Georect>
</spatRepInfo>
<contInfo>
<ImgDesc>
<contentTyp>
<ContentTypCd Sync="TRUE" value="001"/>
</contentTyp>
<covDim>
<Band>
<dimDescrp Sync="TRUE">Band_1</dimDescrp>
<bitsPerVal Sync="TRUE">16</bitsPerVal>
</Band>
<Band>
<dimDescrp Sync="TRUE">Band_2</dimDescrp>
<bitsPerVal Sync="TRUE">16</bitsPerVal>
</Band>
<Band>
<dimDescrp Sync="TRUE">Band_3</dimDescrp>
<bitsPerVal Sync="TRUE">16</bitsPerVal>
</Band>
<Band>
<dimDescrp Sync="TRUE">Band_4</dimDescrp>
<bitsPerVal Sync="TRUE">16</bitsPerVal>
</Band>
</covDim>
</ImgDesc>
</contInfo>
<mdDateSt Sync="TRUE">20241030</mdDateSt>
</metadata>
