{
 "currentVersion": 11.5,
 "serviceDescription": "UT_SLCDA_SLCIAimage",
 "serviceItemId": "a04faf68b065418c81e8417fbceb9df5",
 "name": "UT_SLCDA_SLCIAimage",
 "description": "",
 "extent": {
  "xmin": -15060,
  "ymin": -7199,
  "xmax": 10803,
  "ymax": 28695.25,
  "spatialReference": {
   "wkt2": "PROJCRS[\"590156_ap1w_rso_center\",BASEGEOGCRS[\"GCS_North_American_1983\",DATUM[\"D_North_American_1983\",ELLIPSOID[\"GRS_1980\",6378137.0,298.257222101,LENGTHUNIT[\"Meter\",1.0]]],PRIMEM[\"Greenwich\",0.0,ANGLEUNIT[\"Degree\",0.0174532925199433]],CS[ellipsoidal,2],AXIS[\"Latitude (lat)\",north,ORDER[1]],AXIS[\"Longitude (lon)\",east,ORDER[2]],ANGLEUNIT[\"Degree\",0.0174532925199433]],CONVERSION[\"Rectified_Skew_Orthomorphic_Center\",METHOD[\"Rectified_Skew_Orthomorphic_Center\"],PARAMETER[\"False_Easting\",247014.600000001,LENGTHUNIT[\"Foot\",0.3048]],PARAMETER[\"False_Northing\",-303267.5,LENGTHUNIT[\"Foot\",0.3048]],PARAMETER[\"Scale_Factor\",1.00018,SCALEUNIT[\"Unity\",1.0]],PARAMETER[\"Azimuth\",0.0,ANGLEUNIT[\"Degree\",0.0174532925199433]],PARAMETER[\"Longitude_Of_Center\",-111.0,ANGLEUNIT[\"Degree\",0.0174532925199433]],PARAMETER[\"Latitude_Of_Center\",40.0,ANGLEUNIT[\"Degree\",0.0174532925199433]],PARAMETER[\"XY_Plane_Rotation\",4.4,ANGLEUNIT[\"Degree\",0.0174532925199433]]],CS[Cartesian,2],AXIS[\"Easting (X)\",east,ORDER[1]],AXIS[\"Northing (Y)\",north,ORDER[2]],LENGTHUNIT[\"Foot\",0.3048]]",
   "wkt": "PROJCS[\"590156_ap1w_rso_center\",GEOGCS[\"GCS_North_American_1983\",DATUM[\"D_North_American_1983\",SPHEROID[\"GRS_1980\",6378137.0,298.257222101]],PRIMEM[\"Greenwich\",0.0],UNIT[\"Degree\",0.0174532925199433]],PROJECTION[\"Rectified_Skew_Orthomorphic_Center\"],PARAMETER[\"False_Easting\",247014.600000001],PARAMETER[\"False_Northing\",-303267.5],PARAMETER[\"Scale_Factor\",1.00018],PARAMETER[\"Azimuth\",0.0],PARAMETER[\"Longitude_Of_Center\",-111.0],PARAMETER[\"Latitude_Of_Center\",40.0],PARAMETER[\"XY_Plane_Rotation\",4.4],UNIT[\"Foot\",0.3048]]"
  }
 },
 "initialExtent": {
  "xmin": -15060,
  "ymin": -7199,
  "xmax": 10803,
  "ymax": 28695.25,
  "spatialReference": {
   "wkt2": "PROJCRS[\"590156_ap1w_rso_center\",BASEGEOGCRS[\"GCS_North_American_1983\",DATUM[\"D_North_American_1983\",ELLIPSOID[\"GRS_1980\",6378137.0,298.257222101,LENGTHUNIT[\"Meter\",1.0]]],PRIMEM[\"Greenwich\",0.0,ANGLEUNIT[\"Degree\",0.0174532925199433]],CS[ellipsoidal,2],AXIS[\"Latitude (lat)\",north,ORDER[1]],AXIS[\"Longitude (lon)\",east,ORDER[2]],ANGLEUNIT[\"Degree\",0.0174532925199433]],CONVERSION[\"Rectified_Skew_Orthomorphic_Center\",METHOD[\"Rectified_Skew_Orthomorphic_Center\"],PARAMETER[\"False_Easting\",247014.600000001,LENGTHUNIT[\"Foot\",0.3048]],PARAMETER[\"False_Northing\",-303267.5,LENGTHUNIT[\"Foot\",0.3048]],PARAMETER[\"Scale_Factor\",1.00018,SCALEUNIT[\"Unity\",1.0]],PARAMETER[\"Azimuth\",0.0,ANGLEUNIT[\"Degree\",0.0174532925199433]],PARAMETER[\"Longitude_Of_Center\",-111.0,ANGLEUNIT[\"Degree\",0.0174532925199433]],PARAMETER[\"Latitude_Of_Center\",40.0,ANGLEUNIT[\"Degree\",0.0174532925199433]],PARAMETER[\"XY_Plane_Rotation\",4.4,ANGLEUNIT[\"Degree\",0.0174532925199433]]],CS[Cartesian,2],AXIS[\"Easting (X)\",east,ORDER[1]],AXIS[\"Northing (Y)\",north,ORDER[2]],LENGTHUNIT[\"Foot\",0.3048]]",
   "wkt": "PROJCS[\"590156_ap1w_rso_center\",GEOGCS[\"GCS_North_American_1983\",DATUM[\"D_North_American_1983\",SPHEROID[\"GRS_1980\",6378137.0,298.257222101]],PRIMEM[\"Greenwich\",0.0],UNIT[\"Degree\",0.0174532925199433]],PROJECTION[\"Rectified_Skew_Orthomorphic_Center\"],PARAMETER[\"False_Easting\",247014.600000001],PARAMETER[\"False_Northing\",-303267.5],PARAMETER[\"Scale_Factor\",1.00018],PARAMETER[\"Azimuth\",0.0],PARAMETER[\"Longitude_Of_Center\",-111.0],PARAMETER[\"Latitude_Of_Center\",40.0],PARAMETER[\"XY_Plane_Rotation\",4.4],UNIT[\"Foot\",0.3048]]"
  }
 },
 "fullExtent": {
  "xmin": -15060,
  "ymin": -7199,
  "xmax": 10803,
  "ymax": 28695.25,
  "spatialReference": {
   "wkt2": "PROJCRS[\"590156_ap1w_rso_center\",BASEGEOGCRS[\"GCS_North_American_1983\",DATUM[\"D_North_American_1983\",ELLIPSOID[\"GRS_1980\",6378137.0,298.257222101,LENGTHUNIT[\"Meter\",1.0]]],PRIMEM[\"Greenwich\",0.0,ANGLEUNIT[\"Degree\",0.0174532925199433]],CS[ellipsoidal,2],AXIS[\"Latitude (lat)\",north,ORDER[1]],AXIS[\"Longitude (lon)\",east,ORDER[2]],ANGLEUNIT[\"Degree\",0.0174532925199433]],CONVERSION[\"Rectified_Skew_Orthomorphic_Center\",METHOD[\"Rectified_Skew_Orthomorphic_Center\"],PARAMETER[\"False_Easting\",247014.600000001,LENGTHUNIT[\"Foot\",0.3048]],PARAMETER[\"False_Northing\",-303267.5,LENGTHUNIT[\"Foot\",0.3048]],PARAMETER[\"Scale_Factor\",1.00018,SCALEUNIT[\"Unity\",1.0]],PARAMETER[\"Azimuth\",0.0,ANGLEUNIT[\"Degree\",0.0174532925199433]],PARAMETER[\"Longitude_Of_Center\",-111.0,ANGLEUNIT[\"Degree\",0.0174532925199433]],PARAMETER[\"Latitude_Of_Center\",40.0,ANGLEUNIT[\"Degree\",0.0174532925199433]],PARAMETER[\"XY_Plane_Rotation\",4.4,ANGLEUNIT[\"Degree\",0.0174532925199433]]],CS[Cartesian,2],AXIS[\"Easting (X)\",east,ORDER[1]],AXIS[\"Northing (Y)\",north,ORDER[2]],LENGTHUNIT[\"Foot\",0.3048]]",
   "wkt": "PROJCS[\"590156_ap1w_rso_center\",GEOGCS[\"GCS_North_American_1983\",DATUM[\"D_North_American_1983\",SPHEROID[\"GRS_1980\",6378137.0,298.257222101]],PRIMEM[\"Greenwich\",0.0],UNIT[\"Degree\",0.0174532925199433]],PROJECTION[\"Rectified_Skew_Orthomorphic_Center\"],PARAMETER[\"False_Easting\",247014.600000001],PARAMETER[\"False_Northing\",-303267.5],PARAMETER[\"Scale_Factor\",1.00018],PARAMETER[\"Azimuth\",0.0],PARAMETER[\"Longitude_Of_Center\",-111.0],PARAMETER[\"Latitude_Of_Center\",40.0],PARAMETER[\"XY_Plane_Rotation\",4.4],UNIT[\"Foot\",0.3048]]"
  }
 },
 "sortableFields": "",
 "bandCount": 3,
 "pixelType": "U8",
 "minValues": [
  0,
  0,
  0
 ],
 "maxValues": [
  255,
  255,
  255
 ],
 "meanValues": [
  150.26600613185,
  140.11936704702,
  127.2245775666
 ],
 "stdvValues": [
  57.211089491256,
  60.680407380492,
  65.858634146795
 ],
 "serviceProperties": "Center<\/MosaicMethod>First<\/MosaicOperator>true<\/SortAscending><\/LockImageID><\/TileOrderField>0<\/TileOrderBase>0.000000<\/AvgImageSpacingX>0.000000<\/AvgImageSpacingY>0.0<\/ViewPointX>0.0<\/ViewPointY>0.0<\/ViewPointDefShiftX>0.0<\/ViewPointDefShiftY>None<\/CompressionMethod>75<\/CompressionQuality>0.010000<\/CompressionTolerance>Bilinear<\/SamplingMethod><\/ImageServiceProperties><\/ImageServer>",
 "allowedFields": "",
 "hasMultidimensions": false,
 "pixelSizeX": 0.25,
 "pixelSizeY": 0.25,
 "meanPixelSize": 0.0762,
 "datasetFormat": "JP2",
 "uncompressedSize": 44559983412,
 "blockWidth": 2048,
 "blockHeight": 2048,
 "compressionType": "JPEG2000",
 "bandNames": [
  "Band_1",
  "Band_2",
  "Band_3"
 ],
 "allowCopy": true,
 "allowAnalysis": true,
 "itemAccess": false,
 "inspectionCapabilities": "",
 "noDataValue": 256,
 "noDataValues": [
  256,
  256,
  256
 ],
 "minPixelSize": 0,
 "maxPixelSize": 0,
 "copyrightText": "",
 "serviceDataType": "esriImageServiceDataTypeRGB",
 "serviceSourceType": "esriImageServiceSourceTypeDataset",
 "objectIdField": "",
 "fields": [],
 "capabilities": "Image,Metadata,Mensuration",
 "defaultMosaicMethod": "Center",
 "allowedMosaicMethods": "",
 "sortField": "",
 "sortValue": null,
 "sortAscending": true,
 "mosaicOperator": "First",
 "defaultCompressionQuality": 75,
 "defaultResamplingMethod": "Bilinear",
 "maxImageHeight": 4100,
 "maxImageWidth": 15000,
 "allowRasterFunction": true,
 "rasterFunctionInfos": [
  {
   "name": "None",
   "description": "",
   "help": ""
  }
 ],
 "rasterTypeInfos": [
  {
   "name": "Raster Dataset",
   "description": "Supports all ArcGIS Raster Datasets",
   "help": ""
  }
 ],
 "mensurationCapabilities": "Basic",
 "hasHistograms": true,
 "hasColormap": false,
 "hasRasterAttributeTable": false,
 "minScale": 0,
 "maxScale": 0,
 "exportTilesAllowed": false,
 "supportsStatistics": false,
 "supportsAdvancedQueries": false,
 "editFieldsInfo": null,
 "ownershipBasedAccessControlForRasters": null,
 "allowComputeTiePoints": false,
 "useStandardizedQueries": true,
 "advancedQueryCapabilities": {
  "useStandardizedQueries": true,
  "supportsStatistics": false,
  "supportsOrderBy": false,
  "supportsDistinct": false,
  "supportsPagination": false
 },
 "spatialReference": {
  "wkt2": "PROJCRS[\"590156_ap1w_rso_center\",BASEGEOGCRS[\"GCS_North_American_1983\",DATUM[\"D_North_American_1983\",ELLIPSOID[\"GRS_1980\",6378137.0,298.257222101,LENGTHUNIT[\"Meter\",1.0]]],PRIMEM[\"Greenwich\",0.0,ANGLEUNIT[\"Degree\",0.0174532925199433]],CS[ellipsoidal,2],AXIS[\"Latitude (lat)\",north,ORDER[1]],AXIS[\"Longitude (lon)\",east,ORDER[2]],ANGLEUNIT[\"Degree\",0.0174532925199433]],CONVERSION[\"Rectified_Skew_Orthomorphic_Center\",METHOD[\"Rectified_Skew_Orthomorphic_Center\"],PARAMETER[\"False_Easting\",247014.600000001,LENGTHUNIT[\"Foot\",0.3048]],PARAMETER[\"False_Northing\",-303267.5,LENGTHUNIT[\"Foot\",0.3048]],PARAMETER[\"Scale_Factor\",1.00018,SCALEUNIT[\"Unity\",1.0]],PARAMETER[\"Azimuth\",0.0,ANGLEUNIT[\"Degree\",0.0174532925199433]],PARAMETER[\"Longitude_Of_Center\",-111.0,ANGLEUNIT[\"Degree\",0.0174532925199433]],PARAMETER[\"Latitude_Of_Center\",40.0,ANGLEUNIT[\"Degree\",0.0174532925199433]],PARAMETER[\"XY_Plane_Rotation\",4.4,ANGLEUNIT[\"Degree\",0.0174532925199433]]],CS[Cartesian,2],AXIS[\"Easting (X)\",east,ORDER[1]],AXIS[\"Northing (Y)\",north,ORDER[2]],LENGTHUNIT[\"Foot\",0.3048]]",
  "wkt": "PROJCS[\"590156_ap1w_rso_center\",GEOGCS[\"GCS_North_American_1983\",DATUM[\"D_North_American_1983\",SPHEROID[\"GRS_1980\",6378137.0,298.257222101]],PRIMEM[\"Greenwich\",0.0],UNIT[\"Degree\",0.0174532925199433]],PROJECTION[\"Rectified_Skew_Orthomorphic_Center\"],PARAMETER[\"False_Easting\",247014.600000001],PARAMETER[\"False_Northing\",-303267.5],PARAMETER[\"Scale_Factor\",1.00018],PARAMETER[\"Azimuth\",0.0],PARAMETER[\"Longitude_Of_Center\",-111.0],PARAMETER[\"Latitude_Of_Center\",40.0],PARAMETER[\"XY_Plane_Rotation\",4.4],UNIT[\"Foot\",0.3048]]"
 }
}
