<?xml version="1.0" encoding="UTF-8" standalone="no"?>
<metadata xml:lang="en">
<Esri>
<CreaDate>20251202</CreaDate>
<CreaTime>22272600</CreaTime>
<ArcGISFormat>1.0</ArcGISFormat>
<SyncOnce>FALSE</SyncOnce>
<DataProperties>
<itemProps>
<itemName Sync="TRUE">SLCIA.sid.jp2</itemName>
<itemLocation>
<linkage Sync="TRUE">file://\\jub.com\central\Clients\UT\SLCDA\Projects\83-25-020_SLCIA_DrainagePlan\GIS\Data\Raster\Imagery\SLCIA.sid.jp2</linkage>
<protocol Sync="TRUE">Local Area Network</protocol>
</itemLocation>
<imsContentType Sync="TRUE">002</imsContentType>
<nativeExtBox>
<westBL Sync="TRUE">-15060.000000</westBL>
<eastBL Sync="TRUE">10803.000000</eastBL>
<southBL Sync="TRUE">-7199.000000</southBL>
<northBL Sync="TRUE">28695.250000</northBL>
<exTypeCode Sync="TRUE">1</exTypeCode>
</nativeExtBox>
</itemProps>
<RasterProperties>
<General>
<PixelDepth Sync="TRUE">8</PixelDepth>
<HasColormap Sync="TRUE">FALSE</HasColormap>
<CompressionType Sync="TRUE">JPEG2000</CompressionType>
<NumBands Sync="TRUE">3</NumBands>
<Format Sync="TRUE">JP2</Format>
<HasPyramids Sync="TRUE">TRUE</HasPyramids>
<SourceType Sync="TRUE">continuous</SourceType>
<PixelType Sync="TRUE">unsigned integer</PixelType>
<NoDataValue Sync="TRUE">256</NoDataValue>
</General>
</RasterProperties>
<lineage>
<Process Date="20251202" Time="230234" ToolSource="c:\program files\arcgis\pro\Resources\ArcToolbox\toolboxes\Data Management Tools.tbx\CopyRaster">CopyRaster SLCIA.sid \\jub.com\central\Clients\UT\SLCDA\Projects\83-25-020_SLCIA_DrainagePlan\GIS\Data\Raster\Imagery\SLCIA.sid.jp2 # # 256 NONE NONE # NONE NONE "JPEG 2000 format" NONE CURRENT_SLICE NO_TRANSPOSE</Process>
<Process Date="20251203" Time="085925" ToolSource="c:\program files\arcgis\pro\Resources\ArcToolbox\toolboxes\Data Management Tools.tbx\Rename">Rename \\jub.com\central\Clients\UT\SLCDA\Projects\83-25-020_SLCIA_DrainagePlan\GIS\Data\Raster\Imagery\SLCIA.sid.jp2 \\jub.com\central\Clients\UT\SLCDA\Projects\83-25-020_SLCIA_DrainagePlan\GIS\Data\Raster\Imagery\SLCIAsid.jp2 RasterDataset</Process>
</lineage>
</DataProperties>
<SyncDate>20251202</SyncDate>
<SyncTime>22272600</SyncTime>
<ModDate>20251202</ModDate>
<ModTime>22272600</ModTime>
</Esri>
<dataIdInfo>
<envirDesc Sync="TRUE">Microsoft Windows 10 Version 10.0 (Build 26100) ; Esri ArcGIS 13.3.7.52636</envirDesc>
<dataLang>
<languageCode Sync="TRUE" value="eng"/>
<countryCode Sync="TRUE" value="USA"/>
</dataLang>
<idCitation>
<resTitle Sync="TRUE">UT_SLCDA_SLCIAimage</resTitle>
<presForm>
<PresFormCd Sync="TRUE" value="005"/>
</presForm>
</idCitation>
<spatRpType>
<SpatRepTypCd Sync="TRUE" value="002"/>
</spatRpType>
<idAbs/>
<idPurp/>
<idCredit/>
<resConst>
<Consts>
<useLimit/>
</Consts>
</resConst>
</dataIdInfo>
<mdLang>
<languageCode Sync="TRUE" value="eng"/>
<countryCode Sync="TRUE" value="USA"/>
</mdLang>
<mdChar>
<CharSetCd Sync="TRUE" value="004"/>
</mdChar>
<distInfo>
<distFormat>
<formatName Sync="TRUE">Raster Dataset</formatName>
</distFormat>
</distInfo>
<mdHrLv>
<ScopeCd Sync="TRUE" value="005"/>
</mdHrLv>
<mdHrLvName Sync="TRUE">dataset</mdHrLvName>
<spatRepInfo>
<Georect>
<cellGeo>
<CellGeoCd Sync="TRUE" value="002"/>
</cellGeo>
<numDims Sync="TRUE">2</numDims>
<tranParaAv Sync="TRUE">1</tranParaAv>
<chkPtAv Sync="TRUE">0</chkPtAv>
<cornerPts>
<pos Sync="TRUE">-15060.000000 -7199.000000</pos>
</cornerPts>
<cornerPts>
<pos Sync="TRUE">-15060.000000 28695.250000</pos>
</cornerPts>
<cornerPts>
<pos Sync="TRUE">10803.000000 28695.250000</pos>
</cornerPts>
<cornerPts>
<pos Sync="TRUE">10803.000000 -7199.000000</pos>
</cornerPts>
<centerPt>
<pos Sync="TRUE">-2128.500000 10748.125000</pos>
</centerPt>
<axisDimension type="002">
<dimSize Sync="TRUE">103452</dimSize>
<dimResol>
<value Sync="TRUE">0.250000</value>
</dimResol>
</axisDimension>
<axisDimension type="001">
<dimSize Sync="TRUE">143577</dimSize>
<dimResol>
<value Sync="TRUE">0.250000</value>
</dimResol>
</axisDimension>
<ptInPixel>
<PixOrientCd Sync="TRUE" value="001"/>
</ptInPixel>
</Georect>
</spatRepInfo>
<contInfo>
<ImgDesc>
<contentTyp>
<ContentTypCd Sync="TRUE" value="001"/>
</contentTyp>
<covDim>
<Band>
<dimDescrp Sync="TRUE">Band_1</dimDescrp>
<bitsPerVal Sync="TRUE">8</bitsPerVal>
</Band>
<Band>
<dimDescrp Sync="TRUE">Band_2</dimDescrp>
<bitsPerVal Sync="TRUE">8</bitsPerVal>
</Band>
<Band>
<dimDescrp Sync="TRUE">Band_3</dimDescrp>
<bitsPerVal Sync="TRUE">8</bitsPerVal>
</Band>
</covDim>
</ImgDesc>
</contInfo>
<mdDateSt Sync="TRUE">20251202</mdDateSt>
</metadata>
